BEGIN:VCALENDAR
VERSION:2.0
PRODID:-//wp-events-plugin.com//7.0.5//EN
TZID:America/Los_Angeles
X-WR-TIMEZONE:America/Los_Angeles
BEGIN:VEVENT
UID:268@vallejozencenter.org
DTSTART;TZID=America/Los_Angeles:20230503T174000
DTEND;TZID=America/Los_Angeles:20230503T193000
DTSTAMP:20230426T170821Z
URL:https://vallejozencenter.org/events/full-moon-ceremony-27/
SUMMARY:Full Moon Ceremony and Sangha Meeting
DESCRIPTION:5:40 - 6:10 Zazen\n6:10 - 7:30\nAbbreviated Full Moon Ceremony\
 , then Sangha Meeting beginning with council process with each attendee di
 scussing how they feel about the upcoming changes. We will then talk about
  what members want to see or continue\, including what they are willing to
  take responsibility for. We will also discuss the July party.
CATEGORIES:Full Moon Ceremony,Zazen
END:VEVENT
BEGIN:VTIMEZONE
TZID:America/Los_Angeles
X-LIC-LOCATION:America/Los_Angeles
BEGIN:DAYLIGHT
DTSTART:20230312T030000
TZOFFSETFROM:-0800
TZOFFSETTO:-0700
TZNAME:PDT
END:DAYLIGHT
END:VTIMEZONE
END:VCALENDAR