BEGIN:VCALENDAR
VERSION:2.0
PRODID:-//wp-events-plugin.com//7.0.5//EN
TZID:America/Los_Angeles
X-WR-TIMEZONE:America/Los_Angeles
BEGIN:VEVENT
UID:257@vallejozencenter.org
DTSTART;TZID=America/Los_Angeles;VALUE=DATE:20230103
DTEND;TZID=America/Los_Angeles;VALUE=DATE:20230104
DTSTAMP:20221230T235652Z
URL:https://vallejozencenter.org/events/interim-vzc-closed/
SUMMARY:Temple Re-opens from Interim
DESCRIPTION:We will be closed for interim until Tuesday\, January 3\, 2023 
 when we will resume morning zazen and regular schedule.\n\n&nbsp\;\n\n&nbs
 p\;
END:VEVENT
BEGIN:VTIMEZONE
TZID:America/Los_Angeles
X-LIC-LOCATION:America/Los_Angeles
BEGIN:STANDARD
DTSTART:20221106T010000
TZOFFSETFROM:-0700
TZOFFSETTO:-0800
TZNAME:PST
END:STANDARD
END:VTIMEZONE
END:VCALENDAR