BEGIN:VCALENDAR
VERSION:2.0
PRODID:-//wp-events-plugin.com//7.0.5//EN
TZID:America/Los_Angeles
X-WR-TIMEZONE:America/Los_Angeles
BEGIN:VEVENT
UID:90@vallejozencenter.org
DTSTART;TZID=America/Los_Angeles;VALUE=DATE:20200816
DTEND;TZID=America/Los_Angeles;VALUE=DATE:20200912
DTSTAMP:20200303T173102Z
URL:https://vallejozencenter.org/events/interim-zendo-closed-2/
SUMMARY:Interim (Zendo Closed)
DESCRIPTION:\n						
CATEGORIES:Interim
END:VEVENT
BEGIN:VTIMEZONE
TZID:America/Los_Angeles
X-LIC-LOCATION:America/Los_Angeles
BEGIN:DAYLIGHT
DTSTART:20200308T030000
TZOFFSETFROM:-0800
TZOFFSETTO:-0700
TZNAME:PDT
END:DAYLIGHT
END:VTIMEZONE
END:VCALENDAR