BEGIN:VCALENDAR
VERSION:2.0
PRODID:-//wp-events-plugin.com//7.0.5//EN
TZID:America/Los_Angeles
X-WR-TIMEZONE:America/Los_Angeles
BEGIN:VEVENT
UID:274@vallejozencenter.org
DTSTART;TZID=America/Los_Angeles:20230715T063000
DTEND;TZID=America/Los_Angeles:20230715T204000
DTSTAMP:20230616T185952Z
URL:https://vallejozencenter.org/events/one-day-sit-14/
SUMMARY:One-Day Sit
DESCRIPTION:Schedule One-day-sit-full-day-eveing PDF
CATEGORIES:Sittings,Zazen
END:VEVENT
BEGIN:VTIMEZONE
TZID:America/Los_Angeles
X-LIC-LOCATION:America/Los_Angeles
BEGIN:DAYLIGHT
DTSTART:20230312T030000
TZOFFSETFROM:-0800
TZOFFSETTO:-0700
TZNAME:PDT
END:DAYLIGHT
END:VTIMEZONE
END:VCALENDAR