BEGIN:VCALENDAR
VERSION:2.0
PRODID:-//wp-events-plugin.com//7.0.5//EN
TZID:America/Los_Angeles
X-WR-TIMEZONE:America/Los_Angeles
BEGIN:VEVENT
UID:184@vallejozencenter.org
DTSTART:20210619T080000Z
DTEND:20210619T174000Z
DTSTAMP:20210611T202229Z
URL:https://vallejozencenter.org/events/one-day-sit-5/
SUMMARY:One-Day Sit
DESCRIPTION:Covid One-Day Sit Schedule
CATEGORIES:Sittings
END:VEVENT
END:VCALENDAR