BEGIN:VCALENDAR
VERSION:2.0
PRODID:-//wp-events-plugin.com//7.0.5//EN
TZID:America/Los_Angeles
X-WR-TIMEZONE:America/Los_Angeles
BEGIN:VEVENT
UID:194@vallejozencenter.org
DTSTART;TZID=America/Los_Angeles:20211020T181500
DTEND;TZID=America/Los_Angeles:20211020T200000
DTSTAMP:20211006T024543Z
URL:https://vallejozencenter.org/events/practice-period-class-topic-tbd-3/
SUMMARY:Practice Period Class: Four Fasicles from Zen Mind Beginner's Mind
DESCRIPTION:"Zen Mind\, Beginner’s Mind" by Shunryu Suzuki \; edited by T
 rudy Dixon\nZen Mind Beginner's Mind PDF\n\n\nPlease read the fascicle The
  Marrow of Zen before class.\n\nSuggested donation for class: $15.00 per c
 lass\, $45.00 for four classes
CATEGORIES:Classes
END:VEVENT
BEGIN:VTIMEZONE
TZID:America/Los_Angeles
X-LIC-LOCATION:America/Los_Angeles
BEGIN:DAYLIGHT
DTSTART:20210314T030000
TZOFFSETFROM:-0800
TZOFFSETTO:-0700
TZNAME:PDT
END:DAYLIGHT
END:VTIMEZONE
END:VCALENDAR