BEGIN:VCALENDAR
VERSION:2.0
PRODID:-//wp-events-plugin.com//7.0.5//EN
TZID:America/Los_Angeles
X-WR-TIMEZONE:America/Los_Angeles
BEGIN:VEVENT
UID:227@vallejozencenter.org
DTSTART;TZID=America/Los_Angeles:20220202T174000
DTEND;TZID=America/Los_Angeles:20220202T190000
DTSTAMP:20220124T030804Z
URL:https://vallejozencenter.org/events/sangha-meeting/
SUMMARY:Sangha Meeting
DESCRIPTION:5:40 - 6:00 Zazen\n6:00 - Sangha Meeting\n\nWe will talk about 
 finances\, schedules\, and plans. Please bring any questions\, suggestions
  or concerns that you have.
END:VEVENT
BEGIN:VTIMEZONE
TZID:America/Los_Angeles
X-LIC-LOCATION:America/Los_Angeles
BEGIN:STANDARD
DTSTART:20211107T010000
TZOFFSETFROM:-0700
TZOFFSETTO:-0800
TZNAME:PST
END:STANDARD
END:VTIMEZONE
END:VCALENDAR