BEGIN:VCALENDAR
VERSION:2.0
PRODID:-//wp-events-plugin.com//7.0.5//EN
TZID:America/Los_Angeles
X-WR-TIMEZONE:America/Los_Angeles
BEGIN:VEVENT
UID:193@vallejozencenter.org
DTSTART;TZID=America/Los_Angeles:20211016T113000
DTEND;TZID=America/Los_Angeles:20211016T150000
DTSTAMP:20210928T211435Z
URL:https://vallejozencenter.org/events/sangha-samu-day-2/
SUMMARY:Sangha Samu Day
DESCRIPTION:
CATEGORIES:Sangha Samu Day
END:VEVENT
BEGIN:VTIMEZONE
TZID:America/Los_Angeles
X-LIC-LOCATION:America/Los_Angeles
BEGIN:DAYLIGHT
DTSTART:20210314T030000
TZOFFSETFROM:-0800
TZOFFSETTO:-0700
TZNAME:PDT
END:DAYLIGHT
END:VTIMEZONE
END:VCALENDAR