BEGIN:VCALENDAR
VERSION:2.0
PRODID:-//wp-events-plugin.com//7.0.5//EN
TZID:America/Los_Angeles
X-WR-TIMEZONE:America/Los_Angeles
BEGIN:VEVENT
UID:220@vallejozencenter.org
DTSTART:20210918T082000Z
DTEND:20210918T121500Z
DTSTAMP:20210918T034703Z
URL:https://vallejozencenter.org/events/saturday-schedule/
SUMMARY:Saturday Schedule Plus
DESCRIPTION:We will have an extra period of Zazen. The schedule will be as 
 follows:\n8:20 - 9:00 Zazen\n9:00 - 9:10 Service\n9:10 - 9:30 Break\n9:30 
 - 10:10 Zazen\n10:10 - 10:30 Work period\n10:30 - 11:00  Lecture\n11:00 -
  11:05 Kinhin\n11:05 - 11:45 Zazen\n11:45 - 12:15 Tea\n
END:VEVENT
END:VCALENDAR