BEGIN:VCALENDAR
VERSION:2.0
PRODID:-//wp-events-plugin.com//7.0.5//EN
TZID:America/Los_Angeles
X-WR-TIMEZONE:America/Los_Angeles
BEGIN:VEVENT
UID:252@vallejozencenter.org
DTSTART;TZID=America/Los_Angeles:20221109T163000
DTEND;TZID=America/Los_Angeles:20221109T200000
DTSTAMP:20221001T190335Z
URL:https://vallejozencenter.org/events/sejiki-class-skit-night-2/
SUMMARY:Sejiki/Class-Dogen as Teacher/Skit Night
DESCRIPTION:Suggested donation for the series: $55.00 or $15.00 per class\n
 \n4:30 Temple prep and decorating\n5:40 Zazen\n6:10 Sejiki Ceremony\n6:30 
 Class - Skit Night
END:VEVENT
BEGIN:VTIMEZONE
TZID:America/Los_Angeles
X-LIC-LOCATION:America/Los_Angeles
BEGIN:STANDARD
DTSTART:20221106T010000
TZOFFSETFROM:-0700
TZOFFSETTO:-0800
TZNAME:PST
END:STANDARD
END:VTIMEZONE
END:VCALENDAR