BEGIN:VCALENDAR
VERSION:2.0
PRODID:-//wp-events-plugin.com//7.0.5//EN
TZID:America/Los_Angeles
X-WR-TIMEZONE:America/Los_Angeles
BEGIN:VEVENT
UID:210@vallejozencenter.org
DTSTART;VALUE=DATE:20210822
DTEND;VALUE=DATE:20210911
DTSTAMP:20210830T152709Z
URL:https://vallejozencenter.org/events/summer-interim/
SUMMARY:Summer Interim
DESCRIPTION:During interim\, informal zazen will be offered by Zoom on Mond
 ay - Friday from 6:20 - 7:00 a.m. You may enter the zendo by clicking the 
 link to Enter the Zendo on the home page.
CATEGORIES:Interim
END:VEVENT
END:VCALENDAR